BEGIN:VCALENDAR
VERSION:2.0
PRODID:-//The Jeff Hill Legacy Fund - ECPv6.15.20//NONSGML v1.0//EN
CALSCALE:GREGORIAN
METHOD:PUBLISH
X-WR-CALNAME:The Jeff Hill Legacy Fund
X-ORIGINAL-URL:https://jeffhilllegacyfund.org
X-WR-CALDESC:Events for The Jeff Hill Legacy Fund
REFRESH-INTERVAL;VALUE=DURATION:PT1H
X-Robots-Tag:noindex
X-PUBLISHED-TTL:PT1H
BEGIN:VTIMEZONE
TZID:UTC
BEGIN:STANDARD
TZOFFSETFROM:+0000
TZOFFSETTO:+0000
TZNAME:UTC
DTSTART:20250101T000000
END:STANDARD
END:VTIMEZONE
BEGIN:VEVENT
DTSTART;TZID=UTC:20260516T000000
DTEND;TZID=UTC:20260529T235959
DTSTAMP:20260423T123242
CREATED:20210914T163320Z
LAST-MODIFIED:20251023T181407Z
UID:9543-1778889600-1780099199@jeffhilllegacyfund.org
SUMMARY:2026 Hillbilly's Hero Run Virtual 5K
DESCRIPTION:We are hoping this event not only raises money for the Jeff Hill Legacy Fund\, but also provides an opportunity for friends and family all over the world to get involved!\n\n\n\n\nWhen: May 16 to May 29\, 2026 – Memorial Day / Jeff’s Birthday (May 29th) Weekend\n\n\n\nWhere: Anywhere (It’s Virtual!)\n\n\n\n$20 for adults\, $10 for ages 10 and under\n\n\n\nRace Registration: Coming Soon!\n\n\n\nPlease share your pictures to Facebook and/or Instagram with the hashtags #jeffhilllegacyfund #hillbillysherorun #MemorialDay2026\n\n\n\n\nThrough this venue\, we hope you will join us for the virtual run\, remember Jeff and our other fallen military heroes over Memorial Day weekend\, and help us support our future Air Force leaders by providing financial support to the JHLF.  It also just happens to be Jeff’s birthday weekend! \n\n\n\nAll proceeds go directly to scholarships to Air Force ROTC cadets! \n\n\n\nRegistration is coming soon!
URL:https://jeffhilllegacyfund.org/event/2025-hillbillys-hero-run-virtual-5k/
LOCATION:Virtual
ATTACH;FMTTYPE=image/jpeg:https://jeffhilllegacyfund.org/wp-content/uploads/2021/09/Hillbillys-Hero-Run-Race-Banner.jpg
ORGANIZER;CN="The Jeff Hill Legacy Fund":MAILTO:jeffhilllegacyfund@yahoo.com
END:VEVENT
END:VCALENDAR